BEGIN:VCALENDAR
VERSION:2.0
PRODID:-//YouR PSL Society - ECPv6.1.3//NONSGML v1.0//EN
CALSCALE:GREGORIAN
METHOD:PUBLISH
X-WR-CALNAME:YouR PSL Society
X-ORIGINAL-URL:https://yourpsl.org
X-WR-CALDESC:Events for YouR PSL Society
REFRESH-INTERVAL;VALUE=DURATION:PT1H
X-Robots-Tag:noindex
X-PUBLISHED-TTL:PT1H
BEGIN:VTIMEZONE
TZID:Europe/Paris
BEGIN:DAYLIGHT
TZOFFSETFROM:+0100
TZOFFSETTO:+0200
TZNAME:CEST
DTSTART:20220327T010000
END:DAYLIGHT
BEGIN:STANDARD
TZOFFSETFROM:+0200
TZOFFSETTO:+0100
TZNAME:CET
DTSTART:20221030T010000
END:STANDARD
END:VTIMEZONE
BEGIN:VEVENT
DTSTART;TZID=Europe/Paris:20220411T183000
DTEND;TZID=Europe/Paris:20220411T200000
DTSTAMP:20260422T144834
CREATED:20220405T083104Z
LAST-MODIFIED:20220727T121458Z
UID:1632-1649701800-1649707200@yourpsl.org
SUMMARY:Dédale EPHE : manage two formations in the same time
DESCRIPTION:Do you want to start bringing your research to an international level but are lost in a labyrinth of opportunities and regulations? The EPHE researcher’s association Dédale\, proposes you a smart way out of there! Our next workshop (online and on-site) will allow you to learn from Marine Thébaut. Marine is a doctoral student in cotutelle/double supervision at the EPHE in Paris and Sapienza University in Rome. She will give a presentation on the world of international research and be able to answer your questions in a friendly atmosphere. An aperitif will follow the workshop. Welcome!\n\nSubject : Workshop Dédale Hour : 11 avr. 2022 06:15 PM Join the Zoom meeting https://us02web.zoom.us/j/87524993437?pwd=ak5IQ3lpS0hJbXRwVkhtcWJHYVpuUT09
URL:https://yourpsl.org/event/dedale-ephe-manage-two-formations-in-the-same-time/
CATEGORIES:News
ATTACH;FMTTYPE=image/png:https://yourpsl.org/wp-content/uploads/2022/04/Bleu_et_Jaune_Album_Algebre_Affiche.pdf-2.png
END:VEVENT
BEGIN:VEVENT
DTSTART;TZID=Europe/Paris:20220414T183000
DTEND;TZID=Europe/Paris:20220414T193000
DTSTAMP:20260422T144834
CREATED:20220405T120441Z
LAST-MODIFIED:20220725T075007Z
UID:882-1649961000-1649964600@yourpsl.org
SUMMARY:The General Assembly
DESCRIPTION:The General Assembly (GA) of the association of Young Researchers of the University Paris Sciences et Lettres (YouR PSL) will take place on Thursday 14 April from 6.30 pm to 7.30 pm at PSL headquarters (60 Rue Mazarine\, 75006 Paris). This GA should be preceded by a welcome drink for young researchers of PSL (open to all) and will be closed by a buffet offered to members present (it will be possible to join the association on the spot).\nWe look forward to your joining us!
URL:https://yourpsl.org/event/the-general-assembly/
CATEGORIES:News
ATTACH;FMTTYPE=image/png:https://yourpsl.org/wp-content/uploads/2022/04/AG.png
END:VEVENT
END:VCALENDAR